BEGIN:VCALENDAR
VERSION:2.0
BEGIN:VEVENT
STATUS:TENTATIVE
DTSTART:20190508T083000Z
DTEND:20190508T183000Z
SUMMARY:XV Congreso Tributario
LOCATION:Salón Cultural Liberbank. Calle San José de Calasanz s/n. Albacete
DESCRIPTION:Jornada. 
END:VEVENT
END:VCALENDAR
