BEGIN:VCALENDAR
VERSION:2.0
BEGIN:VEVENT
STATUS:TENTATIVE
DTSTART:20190516T090000Z
DTEND:20190516T120000Z
SUMMARY:Jornada Renta 2018: novedades y aspectos prácticos más relevantes
LOCATION:Casa Municipal de Cultura - Antiguo Palacio de Posada Herrera C/ Posada Herrera, 4 Llanes
DESCRIPTION:Jornada. 
END:VEVENT
END:VCALENDAR
