BEGIN:VCALENDAR
VERSION:2.0
BEGIN:VEVENT
STATUS:TENTATIVE
DTSTART:20200220T153000Z
DTEND:20200220T183000Z
SUMMARY:Cierre contable y fiscal 2019
LOCATION:Pamplona Colegio de Ingenieros Técnicos Industriales Edificios Inteligentes Parque Tomás Caballero 2, 6ª planta
DESCRIPTION:Jornada. Los datos e información de la asistencia de los miembros del Instituto de Censores Jurados de Cuentas de España (ICJCE) serán comunicados al ICJCE para que éste pueda contabilizar el número de horas de formación recibidas.
END:VEVENT
END:VCALENDAR
