BEGIN:VCALENDAR
VERSION:2.0
BEGIN:VEVENT
STATUS:TENTATIVE
DTSTART:20240704T140000Z
DTEND:20240704T160000Z
SUMMARY:Sesión sobre novedades en la liquidación del IS 2023
LOCATION:Sede central. C/ de O'Donnell 7, 1º dcha. Madrid
DESCRIPTION:Jornada. Cualquier inscripción que no sea anulada y no asista a la jornada recibirá una penalización de 25.-euros. 
END:VEVENT
END:VCALENDAR
