BEGIN:VCALENDAR
VERSION:2.0
BEGIN:VEVENT
STATUS:TENTATIVE
DTSTART:20180503T144500Z
DTEND:20180503T184500Z
SUMMARY:Renta 2017. Novedades y cuestiones prácticas
LOCATION:Facultad de Derecho, Universidad de Murcia (Campus de la Merced, calle Santo Cristo, 1, Murcia). Salón de Grados, en planta baja. Entrada por patio central.
DESCRIPTION:Jornada. 
END:VEVENT
END:VCALENDAR
