BEGIN:VCALENDAR
VERSION:2.0
BEGIN:VEVENT
STATUS:TENTATIVE
DTSTART:20191216T183000Z
DTEND:20191216T200000Z
SUMMARY:Sesión de los lunes fiscales
LOCATION:Seu de la Delegació Catalana. c/ Provença, 281 baixos. Barcelona
DESCRIPTION:Tertulia. de 19.30h a 21.00h. Sólo para asociados
END:VEVENT
END:VCALENDAR
