BEGIN:VCALENDAR
VERSION:2.0
BEGIN:VEVENT
STATUS:TENTATIVE
DTSTART:20191021T160000Z
DTEND:20191021T173000Z
SUMMARY:Sesión grupo tributación indirecta (IVA)
LOCATION:Seu de la Delegació Catalana. c/ Provença, 281 baixos. Barcelona
DESCRIPTION:Tertulia. de 18.00h a 19.30h. Abierto a colaboradores, condicionado por la capacidad de la sala.
END:VEVENT
END:VCALENDAR
