BEGIN:VCALENDAR
VERSION:2.0
BEGIN:VEVENT
STATUS:TENTATIVE
DTSTART:20191022T140000Z
DTEND:20191022T170000Z
SUMMARY:Curso sobre el impuesto de sucesiones
LOCATION:Seu de la Delegació Catalana. c/ Provença, 281 baixos. Barcelona
DESCRIPTION:Seminario. de 16:00h a 19:00h. Abierto a colaboradores
END:VEVENT
END:VCALENDAR
