BEGIN:VCALENDAR
VERSION:2.0
BEGIN:VEVENT
STATUS:TENTATIVE
DTSTART:20191112T170000Z
DTEND:20191112T200000Z
SUMMARY:Curso de Procedimientos Tributarios
LOCATION:Sede Central (C/ O´Donnell, 7 1º D)
DESCRIPTION:Jornada. 
END:VEVENT
END:VCALENDAR
