BEGIN:VCALENDAR
VERSION:2.0
BEGIN:VEVENT
STATUS:TENTATIVE
DTSTART:20191209T170000Z
DTEND:20191209T183000Z
SUMMARY:Sesión sobre el Blanqueo Capitales
LOCATION:Seu de la Delegació Catalana. c/ Provença, 281 baixos. Barcelona
DESCRIPTION:Tertulia. de 18.00h a 19.30h. Abierto a colaboradores, condicionado por la capacidad de la sala.
END:VEVENT
END:VCALENDAR
