BEGIN:VCALENDAR
VERSION:2.0
BEGIN:VEVENT
STATUS:TENTATIVE
DTSTART:20191218T104500Z
DTEND:20191218T130000Z
SUMMARY:Últimas novedades Jurisprudenciales del TSJ de la Comunidad Valenciana en materia Tributaria
LOCATION:CLUB DE GOLF “EL PLANTIO” (sala de eventos en la Casa Club)
DESCRIPTION:Jornada. Horario: 11:45 - 14:00
END:VEVENT
END:VCALENDAR
