BEGIN:VCALENDAR
VERSION:2.0
BEGIN:VEVENT
STATUS:TENTATIVE
DTSTART:20200109T153000Z
DTEND:20200109T180000Z
SUMMARY:Novedades en declaraciones informativas 2019 y otras novedades relevantes para 2020
LOCATION:Auditorio del Business World de Alicante, 4ª Planta
DESCRIPTION:Jornada. Horario: 16:30 a 19:00
END:VEVENT
END:VCALENDAR
