BEGIN:VCALENDAR
VERSION:2.0
BEGIN:VEVENT
STATUS:TENTATIVE
DTSTART:20200113T150000Z
DTEND:20200113T180000Z
SUMMARY:Curso completo de IS
LOCATION:Sede Central (C/ O´Donnell, 7 1º D)
DESCRIPTION:Seminario. 
END:VEVENT
END:VCALENDAR
