BEGIN:VCALENDAR
VERSION:2.0
BEGIN:VEVENT
STATUS:TENTATIVE
DTSTART:20200225T153000Z
DTEND:20200225T183000Z
SUMMARY:Ultimas Sentencias de la Audiencia Nacional en materia tributaria
LOCATION:Escuela de práctica jurídica de la UCM (C/ Amaniel, 2)
DESCRIPTION:Jornada. Ponentes: D. Jesús Calderón, Magistrado de la Audiencia Nacional. Antonio Barba y Luis de Lrenzo, Miembros de la AEDAF
END:VEVENT
END:VCALENDAR
