BEGIN:VCALENDAR
VERSION:2.0
BEGIN:VEVENT
STATUS:TENTATIVE
DTSTART:20200130T153000Z
DTEND:20200130T183000Z
SUMMARY:Cuestiones conflictivas en relación con las actuaciones inspectoras. Plan de control tributario 2020
LOCATION:Auditorio del Business World de Alicante, 4ª Planta
DESCRIPTION:Jornada. Horario: 16:30 a 19:30
END:VEVENT
END:VCALENDAR
