BEGIN:VCALENDAR
VERSION:2.0
BEGIN:VEVENT
STATUS:TENTATIVE
DTSTART:20200206T153000Z
DTEND:20200206T183000Z
SUMMARY:Análisis de las últimas resoluciones y criterios interpretativos del TEAR de la Comunidad Valenciana
LOCATION:Auditorio del Business World de Alicante, 4ª Planta
DESCRIPTION:Jornada. Horario: 16:30 a 19:30
END:VEVENT
END:VCALENDAR
