BEGIN:VCALENDAR
VERSION:2.0
BEGIN:VEVENT
STATUS:TENTATIVE
DTSTART:20200204T143000Z
DTEND:20200204T183000Z
SUMMARY:Curso Conslidación Práctico
LOCATION:Parte Contable, sede del Col. Censors- Parte Fiscal sede Delegació Catalana AEDAF
DESCRIPTION:Jornada. 
END:VEVENT
END:VCALENDAR
