BEGIN:VCALENDAR
VERSION:2.0
BEGIN:VEVENT
STATUS:TENTATIVE
DTSTART:20200131T083000Z
DTEND:20200131T100000Z
SUMMARY:Tertulia fiscal: temas de actualidad tributaria
LOCATION:INSTITUTO DE CENSORES JURADOS DE CUENTAS DE ESPAÑA C/ Rosario, 5 y 7, 1º A, Sevilla
DESCRIPTION:Tertulia. 
END:VEVENT
END:VCALENDAR
