BEGIN:VCALENDAR
VERSION:2.0
BEGIN:VEVENT
STATUS:TENTATIVE
DTSTART:20200206T090000Z
DTEND:20200206T130000Z
SUMMARY:JORNADA DE ACTUALIZACIÓN TRIBUTARIA
LOCATION:Sede Málaga
DESCRIPTION:Jornada. 
END:VEVENT
END:VCALENDAR
