BEGIN:VCALENDAR
VERSION:2.0
BEGIN:VEVENT
STATUS:TENTATIVE
DTSTART:20200218T153000Z
DTEND:20200218T183000Z
SUMMARY:Fiscalidad de la extinción de condominio de comunidades que no realizan actividades económicas. Análisis práctico, cuestiones conflictivas y reciente jurisprudencia del Tribunal Supremo
LOCATION:Auditorio del Business World de Alicante, 4ª Planta
DESCRIPTION:Jornada. Horario: 16:30 a 19:30
END:VEVENT
END:VCALENDAR
