BEGIN:VCALENDAR
VERSION:2.0
BEGIN:VEVENT
STATUS:TENTATIVE
DTSTART:20200303T150000Z
DTEND:20200303T183000Z
SUMMARY:Curso práctico del Impuesto de Sociedades (5 sesiones)
LOCATION:Via Zoom . Imprescindible acreditarse con nombre y apellido
DESCRIPTION:Jornada. Horario: 16:00 -19:00
END:VEVENT
END:VCALENDAR
