BEGIN:VCALENDAR
VERSION:2.0
BEGIN:VEVENT
STATUS:TENTATIVE
DTSTART:20200504T153000Z
DTEND:20200504T170000Z
SUMMARY:GRUPO MERCANTIL/CIVIL/SUCESORIO: Testamentos
LOCATION:Seu de la Delegació Catalana. c/ Provença, 281 baixos. Barcelona
DESCRIPTION:Tertulia. de 17.30h a 19.00. Abierto a colaboradores condicionada al aforo de la sala
END:VEVENT
END:VCALENDAR
