BEGIN:VCALENDAR
VERSION:2.0
BEGIN:VEVENT
STATUS:TENTATIVE
DTSTART:20200226T150000Z
DTEND:20200226T180000Z
SUMMARY:Curso para Jóvenes: Doble perspectiva fiscal y contable/auditoria del Impuesto de Sociedades
LOCATION:Seu de la Delegació Catalana. c/ Provença, 281 baixos. Barcelona
DESCRIPTION:Jornada. de 16.00h a 19.00h Abierto a colaboradores.
END:VEVENT
END:VCALENDAR
