BEGIN:VCALENDAR
VERSION:2.0
BEGIN:VEVENT
STATUS:TENTATIVE
DTSTART:20200311T080000Z
DTEND:20200311T180000Z
SUMMARY:Jornada Novedades 2020
LOCATION:Hotel Catalonia Barcelona Plaza, situat a Plaça d’Espanya, 6-8 de Barcelona.
DESCRIPTION:Tertulia. Abierto a colaboradores
END:VEVENT
END:VCALENDAR
