BEGIN:VCALENDAR
VERSION:2.0
BEGIN:VEVENT
STATUS:TENTATIVE
DTSTART:20200312T153000Z
DTEND:20200312T183000Z
SUMMARY:Mapa de riesgos en el IVA: análisis de aspectos críticos
LOCATION:A Coruña Fundación Paideia Plaza María Pita, 17
DESCRIPTION:Jornada. JORNADA APLAZADA
END:VEVENT
END:VCALENDAR
