BEGIN:VCALENDAR
VERSION:2.0
BEGIN:VEVENT
STATUS:TENTATIVE
DTSTART:20200323T120000Z
DTEND:20200323T143000Z
SUMMARY:Tertulia en VideoStreaming/Lunes 23 de marzo a las 13 hs
LOCATION:VideoStreaming utilizando la herramienta Zoom 
DESCRIPTION:Tertulia. 
END:VEVENT
END:VCALENDAR
