BEGIN:VCALENDAR
VERSION:2.0
BEGIN:VEVENT
STATUS:TENTATIVE
DTSTART:20200504T150000Z
DTEND:20200504T163000Z
SUMMARY:GRUPO ESFL: Cuestions de interès para los profesionales que se dedican a asesoras ESFL-ON LINE
LOCATION:Via Zoom. Imprescindible acreditarse con nombre y apellido
DESCRIPTION:Tertulia. de 17.00h a 18.30h Sólo para asociados
END:VEVENT
END:VCALENDAR
