BEGIN:VCALENDAR
VERSION:2.0
BEGIN:VEVENT
STATUS:TENTATIVE
DTSTART:20200527T150000Z
DTEND:20200527T170000Z
SUMMARY:Inversión del sujeto pasivo en el IVA. Ventas por internet. Incumplimientos contractuales a causa de la crisis
LOCATION:Jornada on-line
DESCRIPTION:Jornada. JORNADA VIDEOSTREAMING
END:VEVENT
END:VCALENDAR
