BEGIN:VCALENDAR
VERSION:2.0
BEGIN:VEVENT
STATUS:TENTATIVE
DTSTART:20200708T140000Z
DTEND:20200708T160000Z
SUMMARY:Impuesto sobre el Valor Añadido: Novedades aprobadas en el ámbito del IVA y efectos de la crisis económica
LOCATION:Jornada on-line
DESCRIPTION:Jornada. JORNADA VIDEOSTREAMING
END:VEVENT
END:VCALENDAR
