BEGIN:VCALENDAR
VERSION:2.0
BEGIN:VEVENT
STATUS:TENTATIVE
DTSTART:20200616T150000Z
DTEND:20200616T173000Z
SUMMARY:Mapa de riesgos en el IVA: análisis de aspectos críticos
LOCATION:Jornada on-line
DESCRIPTION:Jornada. Habrá una penalización de 25 € para todos los inscritos que no asistan a la jornada sin haber hecho anulación previa
END:VEVENT
END:VCALENDAR
