BEGIN:VCALENDAR
VERSION:2.0
BEGIN:VEVENT
STATUS:TENTATIVE
DTSTART:20200611T160000Z
DTEND:20200611T173000Z
SUMMARY:Aspectos prácticos del procedimiento de recaudación
LOCATION:Jornada on-line
DESCRIPTION:Jornada. JORNADA VIDEOSTREAMING
END:VEVENT
END:VCALENDAR
