BEGIN:VCALENDAR
VERSION:2.0
BEGIN:VEVENT
STATUS:TENTATIVE
DTSTART:20200616T143000Z
DTEND:20200616T160000Z
SUMMARY:Proyecto de Ley que modifica la LGT: trasposición de la Directiva DAC 6. Efectos sobre el secreto profesional y otras implicaciones para los abogados y asesores fiscales
LOCATION:Via Zoom . imprescindible acreditarse con nombre y apellido
DESCRIPTION:Tertulia. Horario: 16:30 a 18:00
END:VEVENT
END:VCALENDAR
