BEGIN:VCALENDAR
VERSION:2.0
BEGIN:VEVENT
STATUS:TENTATIVE
DTSTART:20200702T173000Z
DTEND:20200702T190000Z
SUMMARY:Tertulia Fiscal
LOCATION:NUEVA UBICACIÓN. Plaza Santa Engracia, número 1, 2º derecha
DESCRIPTION:Tertulia. Tertulia fiscal a la que seguirá una cena en la terraza del Restaurante  Novodabo
END:VEVENT
END:VCALENDAR
