BEGIN:VCALENDAR
VERSION:2.0
BEGIN:VEVENT
STATUS:TENTATIVE
DTSTART:20200709T143000Z
DTEND:20200709T163000Z
SUMMARY:Sesión sobre el desplazamiento del ciclo contable como consecuencia de la pandemia
LOCATION:ZOOM.US. Imprescindible acreditarse con nombre y apellido
DESCRIPTION:Tertulia. OBLIGATORIO TENER VIDEO ENCENDIDO Y/O MICROFONO PARA PODER SER IDENTIFICADOS. Abierto a col·laboradores. Idioma castellano
END:VEVENT
END:VCALENDAR
