BEGIN:VCALENDAR
VERSION:2.0
BEGIN:VEVENT
STATUS:TENTATIVE
DTSTART:20201001T093000Z
DTEND:20201001T113000Z
SUMMARY:La Junta Arbitral en el marco del Convenio Económico: Cómo afectan sus resoluciones al contribuyente
LOCATION:UNED-Pamplona. Centro asociado, Aula Magna
DESCRIPTION:Jornada. LA JUNTA ARBITRAL DE NAVARRA: CUESTIONES A TRATAR EL 1/10/2020 •	Introducción: la Junta Arbitral, su competencia y personas legitimadas para intervenir ante ella •	Cómo afecta a los obligados tributarios o	En el desarrollo del procedimiento o	En la legislación aplicable al caso o	En los criterios de calificación del presupuesto de hecho o	En los conflictos negativos y en el derecho a la devolución del IVA
END:VEVENT
END:VCALENDAR
