BEGIN:VCALENDAR
VERSION:2.0
BEGIN:VEVENT
STATUS:TENTATIVE
DTSTART:20201001T073000Z
DTEND:20201001T090000Z
SUMMARY:El Real Decreto-ley 28/2020, de 22 de septiembre, de trabajo a distancia
LOCATION:On-line
DESCRIPTION:Jornada. Ponente: Urbano Blanes Aparicio
END:VEVENT
END:VCALENDAR
