BEGIN:VCALENDAR
VERSION:2.0
BEGIN:VEVENT
STATUS:TENTATIVE
DTSTART:20201005T150000Z
DTEND:20201005T173000Z
SUMMARY:Actuaciones conflictivas de la AEAT en el periodo posterior al Estado de Alarma
LOCATION:Sede Málaga
DESCRIPTION:Tertulia. 
END:VEVENT
END:VCALENDAR
