BEGIN:VCALENDAR
VERSION:2.0
BEGIN:VEVENT
STATUS:TENTATIVE
DTSTART:20201021T100000Z
DTEND:20201021T120000Z
SUMMARY:Apunte técnico sobre la incidencia del IVA- ON LINE
LOCATION:Via Zoom. Imprescindible acreditarse con nombre y apellido.
DESCRIPTION:Tertulia. Abierto a colaboradores. Idioma : Castellano
END:VEVENT
END:VCALENDAR
