BEGIN:VCALENDAR
VERSION:2.0
BEGIN:VEVENT
STATUS:TENTATIVE
DTSTART:20201022T070000Z
DTEND:20201022T160000Z
SUMMARY:Aspectos controvertidos en la aplicación del sistema fiscal
LOCATION:Santander Palacio de la Magdalena  Avda. de la Reina Victoria, s/n  (Sala Bringas-Riancho)
DESCRIPTION:Jornada. Abierta la inscripción on line
END:VEVENT
END:VCALENDAR
