BEGIN:VCALENDAR
VERSION:2.0
BEGIN:VEVENT
STATUS:TENTATIVE
DTSTART:20201028T150000Z
DTEND:20201028T170000Z
SUMMARY:Curso E-Commerce- ON LINE
LOCATION:Via Zoom. Imprescindible acreditarse con nombre y apellido.
DESCRIPTION:Tertulia. Abierto a colaboradores. Idioma : Castellano
END:VEVENT
END:VCALENDAR
