BEGIN:VCALENDAR
VERSION:2.0
BEGIN:VEVENT
STATUS:TENTATIVE
DTSTART:20201111T153000Z
DTEND:20201111T173000Z
SUMMARY:Curso de Procedimientos Tributarios
LOCATION:On-line
DESCRIPTION:Jornada. Ponente: Javier Vinuesa Magerit. Miembro de la AEDAF
END:VEVENT
END:VCALENDAR
