BEGIN:VCALENDAR
VERSION:2.0
BEGIN:VEVENT
STATUS:TENTATIVE
DTSTART:20201202T150000Z
DTEND:20201202T170000Z
SUMMARY:Apunte técnico sobre la tributación en materia de impuestos indirectos de los contratos en Catalunya- ON LINE
LOCATION:Via Zoom. Imprescindible acreditarse con nombre y apellido.
DESCRIPTION:Seminario. Abierto a colaboradores. Idioma: Catalàn
END:VEVENT
END:VCALENDAR
