BEGIN:VCALENDAR
VERSION:2.0
BEGIN:VEVENT
STATUS:TENTATIVE
DTSTART:20201020T143000Z
DTEND:20201020T163000Z
SUMMARY:Cuestiones contables y fiscales consecuencia de la crisis Covid -19
LOCATION:Via Zoom . Imprescindible acreditarse con nombre y apellido
DESCRIPTION:Jornada. Horario: 16:30 a 18:00
END:VEVENT
END:VCALENDAR
