BEGIN:VCALENDAR
VERSION:2.0
BEGIN:VEVENT
STATUS:TENTATIVE
DTSTART:20201102T150000Z
DTEND:20201102T170000Z
SUMMARY:Apunte técnico: Analisis por la ATC de las Novedades en materia de ISD introducidas desde la delcaración del estado de alarma- ON LINE
LOCATION:Via Zoom. Imprescindible acreditarse con nombre y apellido.
DESCRIPTION:Tertulia. Podéis hacernos llegar preguntas a bustia@aedaf.es.Abierto a colaboradores. Idioma : Catalàn
END:VEVENT
END:VCALENDAR
