BEGIN:VCALENDAR
VERSION:2.0
BEGIN:VEVENT
STATUS:TENTATIVE
DTSTART:20201104T153000Z
DTEND:20201104T183000Z
SUMMARY:Curso sobre actualización contable. Consultas y Resoluciones del ICAC de ejercicios 2019 y 2020
LOCATION:Jornada on-line
DESCRIPTION:Jornada. JORNADA VIDEOSTREAMING
END:VEVENT
END:VCALENDAR
