BEGIN:VCALENDAR
VERSION:2.0
BEGIN:VEVENT
STATUS:TENTATIVE
DTSTART:20201103T170000Z
DTEND:20201103T190000Z
SUMMARY:MARTES ON-LINE - FALCA sobre la Revisión a la doctrina administrativa más reciente en el Ámbito del Impuesto sobre Sociedades
LOCATION:ZOOM.US. Imprescindible acreditarse con nombre y apellido
DESCRIPTION:Tertulia. OBLIGATORIO TENER VIDEO ENCENDIDO Y/O MICROFONO PARA PODER SER IDENTIFICADOS. Sólo para asociados. Idioma castellano-catalán. NO podemos garantizar que se lleve a cabo íntegramente en castellano.
END:VEVENT
END:VCALENDAR
