BEGIN:VCALENDAR
VERSION:2.0
BEGIN:VEVENT
STATUS:TENTATIVE
DTSTART:20201110T160000Z
DTEND:20201110T164500Z
SUMMARY:VI Tertulia fiscal
LOCATION:Jornada On Line
DESCRIPTION:Tertulia. Jornada videostrreaming
END:VEVENT
END:VCALENDAR
