BEGIN:VCALENDAR
VERSION:2.0
BEGIN:VEVENT
STATUS:TENTATIVE
DTSTART:20201214T150000Z
DTEND:20201214T170000Z
SUMMARY:Jornada Cierre Fiscal 2020- ON LINE. LUNES, 14, MARTES, 15 Y MIÉRCOLES 16 DE DICIEMBRE
LOCATION:Via Zoom. Imprescindible acreditarse con nombre y apellido.
DESCRIPTION:Seminario. Abierto a colaboradores. Idioma : Castellano
END:VEVENT
END:VCALENDAR
