BEGIN:VCALENDAR
VERSION:2.0
BEGIN:VEVENT
STATUS:TENTATIVE
DTSTART:20201125T153000Z
DTEND:20201125T183000Z
SUMMARY:Seminario: “Impacto de la tecnología en la aplicación de los tributos: la Agencia Tributaria Electrónica”
LOCATION:Jornada on-line
DESCRIPTION:Jornada. JORNADA VIDEOSTREAMING
END:VEVENT
END:VCALENDAR
