BEGIN:VCALENDAR
VERSION:2.0
BEGIN:VEVENT
STATUS:TENTATIVE
DTSTART:20201125T160000Z
DTEND:20201125T180000Z
SUMMARY:Apunte técnico: “Análisis de las principales medidas tributarias contenidas en el Proyecto de ley de Presupuestos Generales del Estado 2021 y de la Proyecto de Ley contra el fraude fiscal y su Impacto en el cierre del ejercicio 2020 en el impuesto sobre sociedades.”- ON LINE
LOCATION:Via Zoom. Imprescindible acreditarse con nombre y apellido.
DESCRIPTION:Tertulia. Abierto a colaboradores. Idioma: Castellano
END:VEVENT
END:VCALENDAR
